BEGIN:VCALENDAR
VERSION:2.0
PRODID:-//Town of Machias - ECPv6.15.20//NONSGML v1.0//EN
CALSCALE:GREGORIAN
METHOD:PUBLISH
X-ORIGINAL-URL:https://machiasme.gov
X-WR-CALDESC:Events for Town of Machias
REFRESH-INTERVAL;VALUE=DURATION:PT1H
X-Robots-Tag:noindex
X-PUBLISHED-TTL:PT1H
BEGIN:VTIMEZONE
TZID:UTC
BEGIN:STANDARD
TZOFFSETFROM:+0000
TZOFFSETTO:+0000
TZNAME:UTC
DTSTART:20180101T000000
END:STANDARD
END:VTIMEZONE
BEGIN:VEVENT
DTSTART;TZID=UTC:20190720T080000
DTEND;TZID=UTC:20190720T160000
DTSTAMP:20260424T002238
CREATED:20190321T143730Z
LAST-MODIFIED:20190321T143842Z
UID:10000765-1563609600-1563638400@machiasme.gov
SUMMARY:3rd Annual Open House Fly-In  - Machias Valley Airport
DESCRIPTION:It’s that time again. Time to invite one and all to the Machias Valley Airport for our Annual Open House Fly-in. Fly\, drive\, walk\, or bike everyone is welcome. Come see our newly constructed terminal building and completely reconstructed runway. The new\, smooth\, access road should be paved in time for a much  more enjoyable ride by any means. We will have display aircraft again this year which will include the fan favorites – Maine Forest Service Helicopter and the Maine Army Guard Blackhawk Helicopter. We will have other aircraft on site from local pilots and also the Civil Air Patrol who will be conducting missions based out of KMVM. We are also hoping to have great participation from local agencies and businesses for a “Touch-A-Truck” event for the kids. I ask all who are willing to participate to contact us for more information.
URL:https://machiasme.gov/event/3rd-annual-open-house-fly-in-machias-valley-airport/
LOCATION:Machias Valley Airport\, Airport Rd\, Machias\, ME\, 04654\, United States
END:VEVENT
BEGIN:VEVENT
DTSTART;TZID=UTC:20190624T180000
DTEND;TZID=UTC:20190624T190000
DTSTAMP:20260424T002238
CREATED:20190621T140812Z
LAST-MODIFIED:20190621T140812Z
UID:10000295-1561399200-1561402800@machiasme.gov
SUMMARY:Machias Valley Airport Committee Meeting
DESCRIPTION:
URL:https://machiasme.gov/event/machias-valley-airport-committee-meeting-2/
LOCATION:Machias Valley Airport\, Airport Rd\, Machias\, ME\, 04654\, United States
END:VEVENT
BEGIN:VEVENT
DTSTART;TZID=UTC:20190520T180000
DTEND;TZID=UTC:20190520T190000
DTSTAMP:20260424T002238
CREATED:20190514T174304Z
LAST-MODIFIED:20190514T174304Z
UID:10000789-1558375200-1558378800@machiasme.gov
SUMMARY:Machias Airport Committee Meeting
DESCRIPTION:
URL:https://machiasme.gov/event/machias-airport-committee-meeting-2/
LOCATION:Machias Valley Airport\, Airport Rd\, Machias\, ME\, 04654\, United States
END:VEVENT
BEGIN:VEVENT
DTSTART;TZID=UTC:20190429T180000
DTEND;TZID=UTC:20190429T190000
DTSTAMP:20260424T002238
CREATED:20190422T194549Z
LAST-MODIFIED:20190422T194549Z
UID:10000286-1556560800-1556564400@machiasme.gov
SUMMARY:Machias Airport Committee Meeting
DESCRIPTION:
URL:https://machiasme.gov/event/machias-airport-committee-meeting/
LOCATION:Machias Valley Airport\, Airport Rd\, Machias\, ME\, 04654\, United States
END:VEVENT
END:VCALENDAR