BEGIN:VCALENDAR
VERSION:2.0
PRODID:-//Town of Machias - ECPv6.15.20//NONSGML v1.0//EN
CALSCALE:GREGORIAN
METHOD:PUBLISH
X-WR-CALNAME:Town of Machias
X-ORIGINAL-URL:https://machiasme.gov
X-WR-CALDESC:Events for Town of Machias
REFRESH-INTERVAL;VALUE=DURATION:PT1H
X-Robots-Tag:noindex
X-PUBLISHED-TTL:PT1H
BEGIN:VTIMEZONE
TZID:UTC
BEGIN:STANDARD
TZOFFSETFROM:+0000
TZOFFSETTO:+0000
TZNAME:UTC
DTSTART:20180101T000000
END:STANDARD
END:VTIMEZONE
BEGIN:VEVENT
DTSTART;TZID=UTC:20191028T190000
DTEND;TZID=UTC:20191028T200000
DTSTAMP:20260424T061305
CREATED:20191023T140007Z
LAST-MODIFIED:20191023T140007Z
UID:10000905-1572289200-1572292800@machiasme.gov
SUMMARY:Catch up on our Working Washington County Government hosted by Machiasport Historical  Society
DESCRIPTION:Click here for more information
URL:https://machiasme.gov/event/catch-up-on-our-working-washington-county-government-hosted-by-machiasport-historical-society/
LOCATION:Machiasport Historical Society\, Machiasport\, 04655\, United States
END:VEVENT
END:VCALENDAR