BEGIN:VCALENDAR
VERSION:2.0
PRODID:-//Town of Machias - ECPv6.15.20//NONSGML v1.0//EN
CALSCALE:GREGORIAN
METHOD:PUBLISH
X-WR-CALNAME:Town of Machias
X-ORIGINAL-URL:https://machiasme.gov
X-WR-CALDESC:Events for Town of Machias
REFRESH-INTERVAL;VALUE=DURATION:PT1H
X-Robots-Tag:noindex
X-PUBLISHED-TTL:PT1H
BEGIN:VTIMEZONE
TZID:UTC
BEGIN:STANDARD
TZOFFSETFROM:+0000
TZOFFSETTO:+0000
TZNAME:UTC
DTSTART:20180101T000000
END:STANDARD
END:VTIMEZONE
BEGIN:VEVENT
DTSTART;TZID=UTC:20190305T140000
DTEND;TZID=UTC:20190305T190000
DTSTAMP:20260424T105342
CREATED:20190221T185036Z
LAST-MODIFIED:20190221T185036Z
UID:10000262-1551794400-1551812400@machiasme.gov
SUMMARY:American Red Cross - Blood Drive @ The Maine Veteran's Home
DESCRIPTION:Blood Drive Flyer – click here
URL:https://machiasme.gov/event/american-red-cross-blood-drive-the-maine-veterans-home/
LOCATION:Maine Veteran’s Home\, 32 Veterans Way\, Machias\, 04654\, United States
END:VEVENT
END:VCALENDAR