BEGIN:VCALENDAR
VERSION:2.0
PRODID:-//Town of Machias - ECPv6.15.20//NONSGML v1.0//EN
CALSCALE:GREGORIAN
METHOD:PUBLISH
X-WR-CALNAME:Town of Machias
X-ORIGINAL-URL:https://machiasme.gov
X-WR-CALDESC:Events for Town of Machias
REFRESH-INTERVAL;VALUE=DURATION:PT1H
X-Robots-Tag:noindex
X-PUBLISHED-TTL:PT1H
BEGIN:VTIMEZONE
TZID:UTC
BEGIN:STANDARD
TZOFFSETFROM:+0000
TZOFFSETTO:+0000
TZNAME:UTC
DTSTART:20180101T000000
END:STANDARD
END:VTIMEZONE
BEGIN:VEVENT
DTSTART;TZID=UTC:20191120T090000
DTEND;TZID=UTC:20191120T160000
DTSTAMP:20260424T133347
CREATED:20191108T143037Z
LAST-MODIFIED:20191108T143617Z
UID:10000319-1574240400-1574265600@machiasme.gov
SUMMARY:Free Confidential Memory Screenings - National Memory Screening Program - Alzheimer's Foundation of America
DESCRIPTION:
URL:https://machiasme.gov/event/free-confidential-memory-screenings-national-memory-screening-program-alzheimers-foundation-of-america/
LOCATION:Maine Veteran’s Home\, 32 Veterans Way\, Machias\, 04654\, United States
END:VEVENT
END:VCALENDAR