BEGIN:VCALENDAR
VERSION:2.0
PRODID:-//Town of Machias - ECPv6.15.20//NONSGML v1.0//EN
CALSCALE:GREGORIAN
METHOD:PUBLISH
X-ORIGINAL-URL:https://machiasme.gov
X-WR-CALDESC:Events for Town of Machias
REFRESH-INTERVAL;VALUE=DURATION:PT1H
X-Robots-Tag:noindex
X-PUBLISHED-TTL:PT1H
BEGIN:VTIMEZONE
TZID:UTC
BEGIN:STANDARD
TZOFFSETFROM:+0000
TZOFFSETTO:+0000
TZNAME:UTC
DTSTART:20180101T000000
END:STANDARD
END:VTIMEZONE
BEGIN:VEVENT
DTSTART;TZID=UTC:20190626T170000
DTEND;TZID=UTC:20190626T190000
DTSTAMP:20260424T080152
CREATED:20190605T184041Z
LAST-MODIFIED:20190605T184041Z
UID:10000291-1561568400-1561575600@machiasme.gov
SUMMARY:"Tip a Cop Wednesday" for Washington County Special Olympics
DESCRIPTION:Come support the Washington County Special Olympics! \nJoin us at the Machias McDonalds on Wednesday\, June 26\, 2019 from 5-7 pm.  Come meet your local law enforcement – “Tip a cop Wednesday”.  All of gross profits will be donated to the Washington County Special Olympics.
URL:https://machiasme.gov/event/tip-a-cop-wednesday-for-washington-county-special-olympics/
LOCATION:McDonalds\, 3 M&M Place\, Machias\, ME\, United States
END:VEVENT
END:VCALENDAR