BEGIN:VCALENDAR
VERSION:2.0
PRODID:-//Town of Machias - ECPv6.15.20//NONSGML v1.0//EN
CALSCALE:GREGORIAN
METHOD:PUBLISH
X-ORIGINAL-URL:https://machiasme.gov
X-WR-CALDESC:Events for Town of Machias
REFRESH-INTERVAL;VALUE=DURATION:PT1H
X-Robots-Tag:noindex
X-PUBLISHED-TTL:PT1H
BEGIN:VTIMEZONE
TZID:UTC
BEGIN:STANDARD
TZOFFSETFROM:+0000
TZOFFSETTO:+0000
TZNAME:UTC
DTSTART:20180101T000000
END:STANDARD
END:VTIMEZONE
BEGIN:VEVENT
DTSTART;TZID=UTC:20230202T170000
DTEND;TZID=UTC:20230202T190000
DTSTAMP:20260425T144408
CREATED:20230131T203615Z
LAST-MODIFIED:20230131T203615Z
UID:10000697-1675357200-1675364400@machiasme.gov
SUMMARY:Machias Board of Select-People Meeting
DESCRIPTION:Paula Johnson-Rolfe is inviting you to a scheduled Zoom meeting. \nTopic: Board of Select-People Meeting\nTime: Feb 2\, 2023 05:00 PM Eastern Time (US and Canada) \nJoin Zoom Meeting\nhttps://us02web.zoom.us/j/89053619266?pwd=dmlBUTNhL3dpOC9vNE1BT2hzWEtodz09 \nMeeting ID: 890 5361 9266\nPasscode: 083221\nOne tap mobile\n+13092053325\,\,89053619266#\,\,\,\,*083221# US\n+13126266799\,\,89053619266#\,\,\,\,*083221# US (Chicago) \nDial by your location\n+1 309 205 3325 US\n+1 312 626 6799 US (Chicago)\n+1 646 558 8656 US (New York)\n+1 646 931 3860 US\n+1 301 715 8592 US (Washington DC)\n+1 305 224 1968 US\n+1 386 347 5053 US\n+1 507 473 4847 US\n+1 564 217 2000 US\n+1 669 444 9171 US\n+1 669 900 9128 US (San Jose)\n+1 689 278 1000 US\n+1 719 359 4580 US\n+1 253 205 0468 US\n+1 253 215 8782 US (Tacoma)\n+1 346 248 7799 US (Houston)\n+1 360 209 5623 US\nMeeting ID: 890 5361 9266\nPasscode: 083221\nFind your local number: https://us02web.zoom.us/u/kd2v7NbplM \n 
URL:https://machiasme.gov/event/machias-board-of-select-people-meeting-3/
LOCATION:The Machias Tele-Business Center\, 17 Stackpole Dr\, Machias\, ME\, 04654\, United States
END:VEVENT
BEGIN:VEVENT
DTSTART;TZID=UTC:20220622T180000
DTEND;TZID=UTC:20220622T190000
DTSTAMP:20260425T144408
CREATED:20220610T134601Z
LAST-MODIFIED:20220616T170840Z
UID:10000634-1655920800-1655924400@machiasme.gov
SUMMARY:Town of Machias Public Hearing
DESCRIPTION:Notice is hereby given that the Municipal Officers of the Town of Machias will hold a public hearing at the Machias Tele-Business Center for the consideration of an application for a Special Entertainment Permit for “Bad Little Brewing Company” which is located at 101 Court Street in Machias.  Citizens are encouraged to attend or provide written comments. \n  \nPaula Johnson-Rolfe is inviting you to a scheduled Zoom meeting. \nTopic: Town of Machias Public Hearing – Special Entertainment Permit – Bad Little Brewering Company\nTime: Jun 22\, 2022 06:00 PM Eastern Time (US and Canada) \nJoin Zoom Meeting\nhttps://us02web.zoom.us/j/84175617972?pwd=N2tNUDQwbkt6Y1FRYlZKM2N6elNUUT09 \nMeeting ID: 841 7561 7972\nPasscode: 946538\nOne tap mobile\n+13017158592\,\,84175617972#\,\,\,\,*946538# US (Washington DC)\n+13126266799\,\,84175617972#\,\,\,\,*946538# US (Chicago) \nDial by your location\n+1 301 715 8592 US (Washington DC)\n+1 312 626 6799 US (Chicago)\n+1 646 558 8656 US (New York)\n+1 253 215 8782 US (Tacoma)\n+1 346 248 7799 US (Houston)\n+1 669 900 9128 US (San Jose)\nMeeting ID: 841 7561 7972\nPasscode: 946538\nFind your local number: https://us02web.zoom.us/u/kt6VNpnvy \n 
URL:https://machiasme.gov/event/town-of-machias-public-hearing-4/
LOCATION:The Machias Tele-Business Center\, 17 Stackpole Dr\, Machias\, ME\, 04654\, United States
END:VEVENT
BEGIN:VEVENT
DTSTART;TZID=UTC:20220502T170000
DTEND;TZID=UTC:20220502T190000
DTSTAMP:20260425T144408
CREATED:20220428T182145Z
LAST-MODIFIED:20220428T182145Z
UID:10000622-1651510800-1651518000@machiasme.gov
SUMMARY:Budget Meeting
DESCRIPTION:
URL:https://machiasme.gov/event/budget-meeting-22/
LOCATION:The Machias Tele-Business Center\, 17 Stackpole Dr\, Machias\, ME\, 04654\, United States
END:VEVENT
BEGIN:VEVENT
DTSTART;TZID=UTC:20211222T180000
DTEND;TZID=UTC:20211222T190000
DTSTAMP:20260425T144408
CREATED:20201119T153940Z
LAST-MODIFIED:20211209T143912Z
UID:10001008-1640196000-1640199600@machiasme.gov
SUMMARY:Board of Select-People's Meeting -  Cancelled
DESCRIPTION:  \n 
URL:https://machiasme.gov/event/bos-of-select-peoples-meeting-2021-12-22/
LOCATION:The Machias Tele-Business Center\, 17 Stackpole Dr\, Machias\, ME\, 04654\, United States
END:VEVENT
BEGIN:VEVENT
DTSTART;TZID=UTC:20211208T180000
DTEND;TZID=UTC:20211208T190000
DTSTAMP:20260425T144408
CREATED:20201119T153940Z
LAST-MODIFIED:20210902T181930Z
UID:10001007-1638986400-1638990000@machiasme.gov
SUMMARY:Board of Select-People's Meeting
DESCRIPTION:  \n 
URL:https://machiasme.gov/event/bos-of-select-peoples-meeting-2021-12-08/
LOCATION:The Machias Tele-Business Center\, 17 Stackpole Dr\, Machias\, ME\, 04654\, United States
END:VEVENT
BEGIN:VEVENT
DTSTART;VALUE=DATE:20211124
DTEND;VALUE=DATE:20211125
DTSTAMP:20260425T144408
CREATED:20201119T153940Z
LAST-MODIFIED:20211112T153308Z
UID:10001006-1637712000-1637798399@machiasme.gov
SUMMARY:Board of Select-People's Meeting - CANCELLED
DESCRIPTION:  \n 
URL:https://machiasme.gov/event/bos-of-select-peoples-meeting-2021-11-24/
LOCATION:The Machias Tele-Business Center\, 17 Stackpole Dr\, Machias\, ME\, 04654\, United States
END:VEVENT
BEGIN:VEVENT
DTSTART;TZID=UTC:20211110T180000
DTEND;TZID=UTC:20211110T190000
DTSTAMP:20260425T144408
CREATED:20201119T153940Z
LAST-MODIFIED:20210902T181620Z
UID:10001005-1636567200-1636570800@machiasme.gov
SUMMARY:Board of Select-People's Meeting
DESCRIPTION:  \n 
URL:https://machiasme.gov/event/bos-of-select-peoples-meeting-2021-11-10/
LOCATION:The Machias Tele-Business Center\, 17 Stackpole Dr\, Machias\, ME\, 04654\, United States
END:VEVENT
BEGIN:VEVENT
DTSTART;TZID=UTC:20211027T180000
DTEND;TZID=UTC:20211027T190000
DTSTAMP:20260425T144408
CREATED:20201119T153940Z
LAST-MODIFIED:20210902T181534Z
UID:10001004-1635357600-1635361200@machiasme.gov
SUMMARY:Board of Select-People's Meeting
DESCRIPTION:  \n 
URL:https://machiasme.gov/event/bos-of-select-peoples-meeting-2021-10-27/
LOCATION:The Machias Tele-Business Center\, 17 Stackpole Dr\, Machias\, ME\, 04654\, United States
END:VEVENT
BEGIN:VEVENT
DTSTART;TZID=UTC:20211013T180000
DTEND;TZID=UTC:20211013T190000
DTSTAMP:20260425T144408
CREATED:20201119T153940Z
LAST-MODIFIED:20210902T181437Z
UID:10001003-1634148000-1634151600@machiasme.gov
SUMMARY:Board of Select-People's Meeting
DESCRIPTION:  \n 
URL:https://machiasme.gov/event/bos-of-select-peoples-meeting-2021-10-13/
LOCATION:The Machias Tele-Business Center\, 17 Stackpole Dr\, Machias\, ME\, 04654\, United States
END:VEVENT
BEGIN:VEVENT
DTSTART;TZID=UTC:20210922T173000
DTEND;TZID=UTC:20210922T190000
DTSTAMP:20260425T144408
CREATED:20201119T153940Z
LAST-MODIFIED:20210921T125941Z
UID:10001002-1632331800-1632337200@machiasme.gov
SUMMARY:Board of Select-People's Meeting - Following Public Hearing @ 5:00 pm
DESCRIPTION:  \n 
URL:https://machiasme.gov/event/bos-of-select-peoples-meeting-2021-09-22/
LOCATION:The Machias Tele-Business Center\, 17 Stackpole Dr\, Machias\, ME\, 04654\, United States
END:VEVENT
BEGIN:VEVENT
DTSTART;TZID=UTC:20210908T180000
DTEND;TZID=UTC:20210908T190000
DTSTAMP:20260425T144408
CREATED:20201119T153940Z
LAST-MODIFIED:20210902T181156Z
UID:10001001-1631124000-1631127600@machiasme.gov
SUMMARY:Board of Select-People's Meeting
DESCRIPTION:  \n 
URL:https://machiasme.gov/event/bos-of-select-peoples-meeting-2021-09-08/
LOCATION:The Machias Tele-Business Center\, 17 Stackpole Dr\, Machias\, ME\, 04654\, United States
END:VEVENT
BEGIN:VEVENT
DTSTART;TZID=UTC:20210825T180000
DTEND;TZID=UTC:20210825T190000
DTSTAMP:20260425T144408
CREATED:20201119T153940Z
LAST-MODIFIED:20210712T135423Z
UID:10000999-1629914400-1629918000@machiasme.gov
SUMMARY:Board of Select-People's Meeting in person
DESCRIPTION:  \n 
URL:https://machiasme.gov/event/bos-of-select-peoples-meeting-2021-08-25/
LOCATION:The Machias Tele-Business Center\, 17 Stackpole Dr\, Machias\, ME\, 04654\, United States
END:VEVENT
BEGIN:VEVENT
DTSTART;TZID=UTC:20210811T180000
DTEND;TZID=UTC:20210811T190000
DTSTAMP:20260425T144408
CREATED:20210802T190014Z
LAST-MODIFIED:20210802T190308Z
UID:10000553-1628704800-1628708400@machiasme.gov
SUMMARY:Public Hearing - Town of Machias (The Machias Board of Selectpeople Mtg to follow)
DESCRIPTION:To discuss the Acceptance of an Economic Development Program CDBG Grant \n– click here for more info
URL:https://machiasme.gov/event/public-hearing-town-of-machias-2/
LOCATION:The Machias Tele-Business Center\, 17 Stackpole Dr\, Machias\, ME\, 04654\, United States
END:VEVENT
BEGIN:VEVENT
DTSTART;TZID=UTC:20210811T180000
DTEND;TZID=UTC:20210811T190000
DTSTAMP:20260425T144408
CREATED:20201119T153940Z
LAST-MODIFIED:20210712T135319Z
UID:10001000-1628704800-1628708400@machiasme.gov
SUMMARY:Board of Select-People's Meeting in person only
DESCRIPTION:  \n 
URL:https://machiasme.gov/event/bos-of-select-peoples-meeting-2021-08-11/
LOCATION:The Machias Tele-Business Center\, 17 Stackpole Dr\, Machias\, ME\, 04654\, United States
END:VEVENT
BEGIN:VEVENT
DTSTART;TZID=UTC:20210728T180000
DTEND;TZID=UTC:20210728T190000
DTSTAMP:20260425T144408
CREATED:20201119T153940Z
LAST-MODIFIED:20210708T143110Z
UID:10000998-1627495200-1627498800@machiasme.gov
SUMMARY:Board of Select-People's Meeting in person only
DESCRIPTION:  \n  \n 
URL:https://machiasme.gov/event/bos-of-select-peoples-meeting-2021-07-28/
LOCATION:The Machias Tele-Business Center\, 17 Stackpole Dr\, Machias\, ME\, 04654\, United States
END:VEVENT
BEGIN:VEVENT
DTSTART;TZID=UTC:20210526T180000
DTEND;TZID=UTC:20210526T190000
DTSTAMP:20260425T144408
CREATED:20210519T183712Z
LAST-MODIFIED:20210519T183750Z
UID:10001037-1622052000-1622055600@machiasme.gov
SUMMARY:Machias Public Hearing in person and via  Zoom
DESCRIPTION:If unable to attend in person join via Zoom \nJoshua Rolfe is inviting you to a scheduled Zoom meeting. \nTopic: Public Hearing\nTime: May 26\, 2021 06:00 PM Eastern Time (US and Canada) \nJoin Zoom Meeting\nhttps://us02web.zoom.us/j/89623083332 \nMeeting ID: 896 2308 3332\nOne tap mobile\n+13126266799\,\,89623083332# US (Chicago)\n+16465588656\,\,89623083332# US (New York) \nDial by your location\n+1 312 626 6799 US (Chicago)\n+1 646 558 8656 US (New York)\n+1 301 715 8592 US (Washington DC)\n+1 346 248 7799 US (Houston)\n+1 669 900 9128 US (San Jose)\n+1 253 215 8782 US (Tacoma)\nMeeting ID: 896 2308 3332\nFind your local number: https://us02web.zoom.us/u/kby6si2HtU \n 
URL:https://machiasme.gov/event/machias-public-hearing-in-person-and-via-zoom/
LOCATION:The Machias Tele-Business Center\, 17 Stackpole Dr\, Machias\, ME\, 04654\, United States
END:VEVENT
BEGIN:VEVENT
DTSTART;TZID=UTC:20200707T110000
DTEND;TZID=UTC:20200707T140000
DTSTAMP:20260425T144408
CREATED:20160504T173424Z
LAST-MODIFIED:20200630T140011Z
UID:10000505-1594119600-1594130400@machiasme.gov
SUMMARY:Bureau of Motor Vehicles (BMV) - Telebusiness Center
DESCRIPTION:
URL:https://machiasme.gov/event/bureau-of-motor-vehicles-2020-07-07/
LOCATION:The Machias Tele-Business Center\, 17 Stackpole Dr\, Machias\, ME\, 04654\, United States
CATEGORIES:Meetings
END:VEVENT
BEGIN:VEVENT
DTSTART;TZID=UTC:20191204T180000
DTEND;TZID=UTC:20191204T190000
DTSTAMP:20260425T144408
CREATED:20160219T145015Z
LAST-MODIFIED:20191127T204344Z
UID:10000054-1575482400-1575486000@machiasme.gov
SUMMARY:Board of Selectpeople's Meeting - CANCELLED
DESCRIPTION:
URL:https://machiasme.gov/event/board-of-selectmans-meeting-2019-06-24-2019-06-26-2019-12-11/
LOCATION:The Machias Tele-Business Center\, 17 Stackpole Dr\, Machias\, ME\, 04654\, United States
CATEGORIES:Town Meetings
END:VEVENT
BEGIN:VEVENT
DTSTART;TZID=UTC:20191127T180000
DTEND;TZID=UTC:20191127T190000
DTSTAMP:20260425T144408
CREATED:20160219T145015Z
LAST-MODIFIED:20191114T185846Z
UID:10000184-1574877600-1574881200@machiasme.gov
SUMMARY:Board of Selectpeople's Meeting - Cancelled
DESCRIPTION:
URL:https://machiasme.gov/event/board-of-selectmans-meeting-2019-06-24-2019-06-26-2019-11-27/
LOCATION:The Machias Tele-Business Center\, 17 Stackpole Dr\, Machias\, ME\, 04654\, United States
CATEGORIES:Town Meetings
END:VEVENT
BEGIN:VEVENT
DTSTART;TZID=UTC:20191113T180000
DTEND;TZID=UTC:20191113T190000
DTSTAMP:20260425T144408
CREATED:20160219T145015Z
LAST-MODIFIED:20190716T131242Z
UID:10000178-1573668000-1573671600@machiasme.gov
SUMMARY:Board of Selectpeople's Meeting
DESCRIPTION:Board of Selectpeople’s meetings are the 2nd and 4th Wednesday of the month at 6 p.m. at the Tele-Business Center on Stackpole Drive
URL:https://machiasme.gov/event/board-of-selectmans-meeting-2019-06-24-2019-06-26/2019-11-13/
LOCATION:The Machias Tele-Business Center\, 17 Stackpole Dr\, Machias\, ME\, 04654\, United States
CATEGORIES:Town Meetings
END:VEVENT
BEGIN:VEVENT
DTSTART;TZID=UTC:20191023T180000
DTEND;TZID=UTC:20191023T190000
DTSTAMP:20260425T144408
CREATED:20160219T145015Z
LAST-MODIFIED:20190716T131242Z
UID:10000177-1571853600-1571857200@machiasme.gov
SUMMARY:Board of Selectpeople's Meeting
DESCRIPTION:Board of Selectpeople’s meetings are the 2nd and 4th Wednesday of the month at 6 p.m. at the Tele-Business Center on Stackpole Drive
URL:https://machiasme.gov/event/board-of-selectmans-meeting-2019-06-24-2019-06-26/2019-10-23/
LOCATION:The Machias Tele-Business Center\, 17 Stackpole Dr\, Machias\, ME\, 04654\, United States
CATEGORIES:Town Meetings
END:VEVENT
BEGIN:VEVENT
DTSTART;TZID=UTC:20191009T180000
DTEND;TZID=UTC:20191009T190000
DTSTAMP:20260425T144408
CREATED:20160219T145015Z
LAST-MODIFIED:20190716T131242Z
UID:10000176-1570644000-1570647600@machiasme.gov
SUMMARY:Board of Selectpeople's Meeting
DESCRIPTION:Board of Selectpeople’s meetings are the 2nd and 4th Wednesday of the month at 6 p.m. at the Tele-Business Center on Stackpole Drive
URL:https://machiasme.gov/event/board-of-selectmans-meeting-2019-06-24-2019-06-26/2019-10-09/
LOCATION:The Machias Tele-Business Center\, 17 Stackpole Dr\, Machias\, ME\, 04654\, United States
CATEGORIES:Town Meetings
END:VEVENT
BEGIN:VEVENT
DTSTART;TZID=UTC:20190925T180000
DTEND;TZID=UTC:20190925T190000
DTSTAMP:20260425T144408
CREATED:20160219T145015Z
LAST-MODIFIED:20190716T131242Z
UID:10000175-1569434400-1569438000@machiasme.gov
SUMMARY:Board of Selectpeople's Meeting
DESCRIPTION:Board of Selectpeople’s meetings are the 2nd and 4th Wednesday of the month at 6 p.m. at the Tele-Business Center on Stackpole Drive
URL:https://machiasme.gov/event/board-of-selectmans-meeting-2019-06-24-2019-06-26/2019-09-25/
LOCATION:The Machias Tele-Business Center\, 17 Stackpole Dr\, Machias\, ME\, 04654\, United States
CATEGORIES:Town Meetings
END:VEVENT
BEGIN:VEVENT
DTSTART;TZID=UTC:20190911T180000
DTEND;TZID=UTC:20190911T190000
DTSTAMP:20260425T144408
CREATED:20160219T145015Z
LAST-MODIFIED:20190716T131242Z
UID:10000174-1568224800-1568228400@machiasme.gov
SUMMARY:Board of Selectpeople's Meeting
DESCRIPTION:Board of Selectpeople’s meetings are the 2nd and 4th Wednesday of the month at 6 p.m. at the Tele-Business Center on Stackpole Drive
URL:https://machiasme.gov/event/board-of-selectmans-meeting-2019-06-24-2019-06-26/2019-09-11/
LOCATION:The Machias Tele-Business Center\, 17 Stackpole Dr\, Machias\, ME\, 04654\, United States
CATEGORIES:Town Meetings
END:VEVENT
BEGIN:VEVENT
DTSTART;TZID=UTC:20190828T180000
DTEND;TZID=UTC:20190828T190000
DTSTAMP:20260425T144408
CREATED:20160219T145015Z
LAST-MODIFIED:20190716T131242Z
UID:10000173-1567015200-1567018800@machiasme.gov
SUMMARY:Board of Selectpeople's Meeting
DESCRIPTION:Board of Selectpeople’s meetings are the 2nd and 4th Wednesday of the month at 6 p.m. at the Tele-Business Center on Stackpole Drive
URL:https://machiasme.gov/event/board-of-selectmans-meeting-2019-06-24-2019-06-26/2019-08-28/
LOCATION:The Machias Tele-Business Center\, 17 Stackpole Dr\, Machias\, ME\, 04654\, United States
CATEGORIES:Town Meetings
END:VEVENT
BEGIN:VEVENT
DTSTART;TZID=UTC:20190814T180000
DTEND;TZID=UTC:20190814T190000
DTSTAMP:20260425T144408
CREATED:20160219T145015Z
LAST-MODIFIED:20190716T130257Z
UID:10000182-1565805600-1565809200@machiasme.gov
SUMMARY:Board of Selectpeople's Meeting - Cancelled
DESCRIPTION:Board of Selectpeople’s meetings are the 2nd and 4th Wednesday of the month at 6 p.m. at the Tele-Business Center on Stackpole Drive
URL:https://machiasme.gov/event/board-of-selectmans-meeting-2019-06-24-2019-06-26-2019-08-14/
LOCATION:The Machias Tele-Business Center\, 17 Stackpole Dr\, Machias\, ME\, 04654\, United States
CATEGORIES:Town Meetings
END:VEVENT
BEGIN:VEVENT
DTSTART;TZID=UTC:20190807T180000
DTEND;TZID=UTC:20190807T190000
DTSTAMP:20260425T144408
CREATED:20190716T130442Z
LAST-MODIFIED:20190716T130442Z
UID:10000804-1565200800-1565204400@machiasme.gov
SUMMARY:Board of Select-People Meeting
DESCRIPTION:
URL:https://machiasme.gov/event/board-of-select-people-meeting/
LOCATION:The Machias Tele-Business Center\, 17 Stackpole Dr\, Machias\, ME\, 04654\, United States
END:VEVENT
BEGIN:VEVENT
DTSTART;VALUE=DATE:20190729
DTEND;VALUE=DATE:20190731
DTSTAMP:20260425T144409
CREATED:20190718T132813Z
LAST-MODIFIED:20190718T132813Z
UID:10000831-1564358400-1564531199@machiasme.gov
SUMMARY:Spay Neuter Clinic at Machias Tele-Business Center on Stackpole Drive
DESCRIPTION:There is space for  females & males.  Please call 207-200-5670 to set up appt.
URL:https://machiasme.gov/event/spay-neuter-clinic-at-machias-tele-business-center-on-stackpole-drive/
LOCATION:The Machias Tele-Business Center\, 17 Stackpole Dr\, Machias\, ME\, 04654\, United States
END:VEVENT
BEGIN:VEVENT
DTSTART;TZID=UTC:20190724T180000
DTEND;TZID=UTC:20190724T190000
DTSTAMP:20260425T144409
CREATED:20160219T145015Z
LAST-MODIFIED:20190716T130942Z
UID:10000405-1563991200-1563994800@machiasme.gov
SUMMARY:Board of Selectpeople's Meeting
DESCRIPTION:Board of Selectpeople’s meetings are the 2nd and 4th Wednesday of the month at 6 p.m. at the Machias Tele-Business Center.
URL:https://machiasme.gov/event/board-of-selectmans-meeting-2019-07-24/
LOCATION:The Machias Tele-Business Center\, 17 Stackpole Dr\, Machias\, ME\, 04654\, United States
CATEGORIES:Town Meetings
END:VEVENT
BEGIN:VEVENT
DTSTART;TZID=UTC:20190712T180000
DTEND;TZID=UTC:20190712T190000
DTSTAMP:20260425T144409
CREATED:20190712T191145Z
LAST-MODIFIED:20190712T191334Z
UID:10000300-1562954400-1562958000@machiasme.gov
SUMMARY:Adult Use Marijuana Workshop at the Tele-business Center
DESCRIPTION:
URL:https://machiasme.gov/event/adult-use-marijuana-workshop-at-the-tele-business-center/
LOCATION:The Machias Tele-Business Center\, 17 Stackpole Dr\, Machias\, ME\, 04654\, United States
END:VEVENT
END:VCALENDAR