BEGIN:VCALENDAR
VERSION:2.0
PRODID:-//Town of Machias - ECPv6.15.20//NONSGML v1.0//EN
CALSCALE:GREGORIAN
METHOD:PUBLISH
X-ORIGINAL-URL:https://machiasme.gov
X-WR-CALDESC:Events for Town of Machias
REFRESH-INTERVAL;VALUE=DURATION:PT1H
X-Robots-Tag:noindex
X-PUBLISHED-TTL:PT1H
BEGIN:VTIMEZONE
TZID:UTC
BEGIN:STANDARD
TZOFFSETFROM:+0000
TZOFFSETTO:+0000
TZNAME:UTC
DTSTART:20180101T000000
END:STANDARD
END:VTIMEZONE
BEGIN:VEVENT
DTSTART;TZID=UTC:20201014T180000
DTEND;TZID=UTC:20201014T190000
DTSTAMP:20260424T075951
CREATED:20191114T192734Z
LAST-MODIFIED:20201009T181158Z
UID:10000412-1602698400-1602702000@machiasme.gov
SUMMARY:Board of SelectPeople's Meeting in person and via Zoom
DESCRIPTION:Joshua Rolfe is inviting you to a scheduled Zoom meeting. \nTopic: Machias Board of Selectpeople\nTime: Oct 14\, 2020 06:00 PM Eastern Time (US and Canada) \nJoin Zoom Meeting\nhttps://us02web.zoom.us/j/81396801993 \nMeeting ID: 813 9680 1993\nOne tap mobile\n+13017158592\,\,81396801993# US (Germantown)\n+13126266799\,\,81396801993# US (Chicago) \nDial by your location\n+1 301 715 8592 US (Germantown)\n+1 312 626 6799 US (Chicago)\n+1 646 558 8656 US (New York)\n+1 253 215 8782 US (Tacoma)\n+1 346 248 7799 US (Houston)\n+1 669 900 9128 US (San Jose)\nMeeting ID: 813 9680 1993\nFind your local number: https://us02web.zoom.us/u/kb6pklitwU \n 
URL:https://machiasme.gov/event/board-of-select-peoples-meeting-2020-10-14/
LOCATION:The Machias Tele-Business Center & Google Meet Link\, 17 Stackpole Dr\, Machias\, ME\, 04654\, United States
END:VEVENT
BEGIN:VEVENT
DTSTART;TZID=UTC:20200513T180000
DTEND;TZID=UTC:20200513T190000
DTSTAMP:20260424T075951
CREATED:20191114T192734Z
LAST-MODIFIED:20200210T202652Z
UID:10000913-1589392800-1589396400@machiasme.gov
SUMMARY:Board of SelectPeople's Meeting
DESCRIPTION:Board of Select-people’s meetings are the 2nd and 4th Wednesday of the month at 6 p.m. at the Tele-Business Center on Stackpole Drive.
URL:https://machiasme.gov/event/board-of-select-peoples-meeting-2020-05-13/
LOCATION:The Machias Tele-Business Center & Google Meet Link\, 17 Stackpole Dr\, Machias\, ME\, 04654\, United States
END:VEVENT
BEGIN:VEVENT
DTSTART;TZID=UTC:20200408T180000
DTEND;TZID=UTC:20200408T190000
DTSTAMP:20260424T075951
CREATED:20191114T192734Z
LAST-MODIFIED:20200403T194910Z
UID:10000911-1586368800-1586372400@machiasme.gov
SUMMARY:Board of SelectPeople's Meeting - CANCELLED
DESCRIPTION:Board of Select-people’s meetings are the 2nd and 4th Wednesday of the month at 6 p.m. at the Tele-Business Center on Stackpole Drive.
URL:https://machiasme.gov/event/board-of-select-peoples-meeting-2020-04-08/
LOCATION:The Machias Tele-Business Center & Google Meet Link\, 17 Stackpole Dr\, Machias\, ME\, 04654\, United States
END:VEVENT
BEGIN:VEVENT
DTSTART;TZID=UTC:20200325T180000
DTEND;TZID=UTC:20200325T190000
DTSTAMP:20260424T075951
CREATED:20191114T192734Z
LAST-MODIFIED:20200312T125004Z
UID:10000910-1585159200-1585162800@machiasme.gov
SUMMARY:Board of SelectPeople's Meeting - Cancelled
DESCRIPTION:Board of Select-people’s meetings are the 2nd and 4th Wednesday of the month at 6 p.m. at the Tele-Business Center on Stackpole Drive.
URL:https://machiasme.gov/event/board-of-select-peoples-meeting-2020-03-25/
LOCATION:The Machias Tele-Business Center & Google Meet Link\, 17 Stackpole Dr\, Machias\, ME\, 04654\, United States
END:VEVENT
BEGIN:VEVENT
DTSTART;TZID=UTC:20200311T180000
DTEND;TZID=UTC:20200311T190000
DTSTAMP:20260424T075951
CREATED:20191114T192734Z
LAST-MODIFIED:20200210T151500Z
UID:10000909-1583949600-1583953200@machiasme.gov
SUMMARY:Board of SelectPeople's Meeting
DESCRIPTION:Board of Select-people’s meetings are the 2nd and 4th Wednesday of the month at 6 p.m. at the Tele-Business Center on Stackpole Drive.
URL:https://machiasme.gov/event/board-of-select-peoples-meeting-2020-03-11/
LOCATION:The Machias Tele-Business Center & Google Meet Link\, 17 Stackpole Dr\, Machias\, ME\, 04654\, United States
END:VEVENT
BEGIN:VEVENT
DTSTART;TZID=UTC:20200226T180000
DTEND;TZID=UTC:20200226T190000
DTSTAMP:20260424T075951
CREATED:20191114T192734Z
LAST-MODIFIED:20200210T150033Z
UID:10000908-1582740000-1582743600@machiasme.gov
SUMMARY:Board of SelectPeople's Meeting
DESCRIPTION:Board of Select-people’s meetings are the 2nd and 4th Wednesday of the month at 6 p.m. at the Tele-Business Center on Stackpole Drive.
URL:https://machiasme.gov/event/board-of-select-peoples-meeting-2020-02-26/
LOCATION:The Machias Tele-Business Center & Google Meet Link\, 17 Stackpole Dr\, Machias\, ME\, 04654\, United States
END:VEVENT
BEGIN:VEVENT
DTSTART;TZID=UTC:20200130T180000
DTEND;TZID=UTC:20200130T190000
DTSTAMP:20260424T075951
CREATED:20200128T152401Z
LAST-MODIFIED:20200128T153415Z
UID:10000940-1580407200-1580410800@machiasme.gov
SUMMARY:The Town of Machias - Marijuana Workshop
DESCRIPTION:
URL:https://machiasme.gov/event/the-town-of-machias-marijuana-workshop/
LOCATION:The Machias Tele-Business Center & Google Meet Link\, 17 Stackpole Dr\, Machias\, ME\, 04654\, United States
END:VEVENT
BEGIN:VEVENT
DTSTART;TZID=UTC:20200122T180000
DTEND;TZID=UTC:20200122T190000
DTSTAMP:20260424T075951
CREATED:20191114T192734Z
LAST-MODIFIED:20200210T145512Z
UID:10000404-1579716000-1579719600@machiasme.gov
SUMMARY:Board of SelectPeople's Meeting
DESCRIPTION:Board of Select-people’s meetings are the 2nd and 4th Wednesday of the month at 6 p.m. at the Tele-Business Center on Stackpole Drive.
URL:https://machiasme.gov/event/board-of-select-peoples-meeting-2020-01-22/
LOCATION:The Machias Tele-Business Center & Google Meet Link\, 17 Stackpole Dr\, Machias\, ME\, 04654\, United States
END:VEVENT
BEGIN:VEVENT
DTSTART;TZID=UTC:20200108T180000
DTEND;TZID=UTC:20200108T190000
DTSTAMP:20260424T075951
CREATED:20191114T192734Z
LAST-MODIFIED:20200210T144459Z
UID:10000403-1578506400-1578510000@machiasme.gov
SUMMARY:Board of SelectPeople's Meeting
DESCRIPTION:Board of Select-people’s meetings are the 2nd and 4th Wednesday of the month at 6 p.m. at the Tele-Business Center on Stackpole Drive.
URL:https://machiasme.gov/event/board-of-select-peoples-meeting/2020-01-08/
LOCATION:The Machias Tele-Business Center & Google Meet Link\, 17 Stackpole Dr\, Machias\, ME\, 04654\, United States
END:VEVENT
BEGIN:VEVENT
DTSTART;TZID=UTC:20191216T150000
DTEND;TZID=UTC:20191216T160000
DTSTAMP:20260424T075951
CREATED:20191114T190515Z
LAST-MODIFIED:20191213T172519Z
UID:10000402-1576508400-1576512000@machiasme.gov
SUMMARY:Board of Select-peoples Meeting - change in date
DESCRIPTION:Change of date from December 18th to December 16th after Christmas Party approximately 3:00 pm.
URL:https://machiasme.gov/event/board-of-select-peoples-meeting-change-in-date/
LOCATION:The Machias Tele-Business Center & Google Meet Link\, 17 Stackpole Dr\, Machias\, ME\, 04654\, United States
END:VEVENT
BEGIN:VEVENT
DTSTART;VALUE=DATE:20191209
DTEND;VALUE=DATE:20191210
DTSTAMP:20260424T075951
CREATED:20191121T151848Z
LAST-MODIFIED:20191121T152239Z
UID:10000419-1575849600-1575935999@machiasme.gov
SUMMARY:Free by Donation Cat Spay Neuter Clinic
DESCRIPTION:Free by Donation Cat Spay Neuter Clinic – Monday\, December 9th at 17 Stackpole Drive in Machias ME. Call for appointment 200-5670\, if no answer please leave; name\, number and best time to reach. Limited spots available due to Rabies Clinic the day before. \n 
URL:https://machiasme.gov/event/free-by-donation-cat-spay-neuter-clinic/
LOCATION:The Machias Tele-Business Center & Google Meet Link\, 17 Stackpole Dr\, Machias\, ME\, 04654\, United States
END:VEVENT
BEGIN:VEVENT
DTSTART;TZID=UTC:20191024T190000
DTEND;TZID=UTC:20191024T200000
DTSTAMP:20260424T075951
CREATED:20191011T125742Z
LAST-MODIFIED:20191011T125742Z
UID:10000902-1571943600-1571947200@machiasme.gov
SUMMARY:Town of Machias - Public Hearing Notice
DESCRIPTION:The Town of Machias will hold a public hearing on October 24\, 2019 at 7:00 P.M. at the Tele-Business Center on 17 Stackpole Drive.  The purpose of this meeting is to review and develop rules and regulations for an Adult Use Marijuana Ordinance.  Questions will include fees\, locations\, and number of businesses allowed.  All interested parties should attend and provide ideas\, suggestions and to address any concerns.
URL:https://machiasme.gov/event/town-of-machias-public-hearing-notice-5/
LOCATION:The Machias Tele-Business Center & Google Meet Link\, 17 Stackpole Dr\, Machias\, ME\, 04654\, United States
END:VEVENT
BEGIN:VEVENT
DTSTART;TZID=UTC:20190904T180000
DTEND;TZID=UTC:20190904T190000
DTSTAMP:20260424T075951
CREATED:20190806T180227Z
LAST-MODIFIED:20190806T180634Z
UID:10000833-1567620000-1567623600@machiasme.gov
SUMMARY:Marijuana Workshop
DESCRIPTION:
URL:https://machiasme.gov/event/marijuana-workshop/
LOCATION:The Machias Tele-Business Center & Google Meet Link\, 17 Stackpole Dr\, Machias\, ME\, 04654\, United States
END:VEVENT
BEGIN:VEVENT
DTSTART;VALUE=DATE:20190622
DTEND;VALUE=DATE:20190625
DTSTAMP:20260424T075951
CREATED:20190530T164719Z
LAST-MODIFIED:20190618T130327Z
UID:10000800-1561161600-1561420799@machiasme.gov
SUMMARY:Free Spay/Neuter & Vaccinations for Cats & Kittens - As of 06/18/2019 Clinics are full\, no appointments available
DESCRIPTION:Washington County Clinic for Families in Need of Financial Help \n 
URL:https://machiasme.gov/event/free-spay-neuter-vaccinations-for-cats-kittens/
LOCATION:The Machias Tele-Business Center & Google Meet Link\, 17 Stackpole Dr\, Machias\, ME\, 04654\, United States
END:VEVENT
END:VCALENDAR