BEGIN:VCALENDAR
VERSION:2.0
PRODID:-//Town of Machias - ECPv6.15.20//NONSGML v1.0//EN
CALSCALE:GREGORIAN
METHOD:PUBLISH
X-ORIGINAL-URL:https://machiasme.gov
X-WR-CALDESC:Events for Town of Machias
REFRESH-INTERVAL;VALUE=DURATION:PT1H
X-Robots-Tag:noindex
X-PUBLISHED-TTL:PT1H
BEGIN:VTIMEZONE
TZID:UTC
BEGIN:STANDARD
TZOFFSETFROM:+0000
TZOFFSETTO:+0000
TZNAME:UTC
DTSTART:20190101T000000
END:STANDARD
END:VTIMEZONE
BEGIN:VEVENT
DTSTART;TZID=UTC:20200831T090000
DTEND;TZID=UTC:20200831T100000
DTSTAMP:20260424T105017
CREATED:20200828T151519Z
LAST-MODIFIED:20200831T125031Z
UID:10000975-1598864400-1598868000@machiasme.gov
SUMMARY:Machias Board of Selectpersons' Meeting - Executive  via Zoom
DESCRIPTION:WCCOG Admin is inviting you to a scheduled Zoom meeting. \nTopic: Machias Select Board 8/31\, 9 am Public into Executive Mtg\nTime: Aug 31\, 2020 09:00 AM Eastern Time (US and Canada) \nJoin Zoom Meeting\nhttps://us02web.zoom.us/j/82626648487 \nMeeting ID: 826 2664 8487\nOne tap mobile\n+16465588656\,\,82626648487# US (New York)\n+13017158592\,\,82626648487# US (Germantown) \nDial by your location\n+1 646 558 8656 US (New York)\n+1 301 715 8592 US (Germantown)\n+1 312 626 6799 US (Chicago)\n+1 669 900 9128 US (San Jose)\n+1 253 215 8782 US (Tacoma)\n+1 346 248 7799 US (Houston)\nMeeting ID: 826 2664 8487\nFind your local number: https://us02web.zoom.us/u/kebxVgfkVj
URL:https://machiasme.gov/event/machias-board-of-selectpersons-meeting-executive-via-zoom/
LOCATION:Via Zoom\, Machias\, ME\, 04654\, United States
END:VEVENT
BEGIN:VEVENT
DTSTART;TZID=UTC:20200826T180000
DTEND;TZID=UTC:20200826T190000
DTSTAMP:20260424T105017
CREATED:20191114T192734Z
LAST-MODIFIED:20200825T154720Z
UID:10000920-1598464800-1598468400@machiasme.gov
SUMMARY:Board of SelectPeople's Meeting via Zoom
DESCRIPTION:WCCOG Admin is inviting you to a scheduled Zoom meeting.\n\nTopic: 8/26 Machias Select Board Meeting\nTime: Aug 26\, 2020 06:00 PM Eastern Time (US and Canada)\n\nJoin Zoom Meeting\nhttps://us02web.zoom.us/j/89594622361\n\nMeeting ID: 895 9462 2361\nOne tap mobile\n+16465588656\,\,89594622361# US (New York)\n+13017158592\,\,89594622361# US (Germantown)\n\nDial by your location\n        +1 646 558 8656 US (New York)\n        +1 301 715 8592 US (Germantown)\n        +1 312 626 6799 US (Chicago)\n        +1 669 900 9128 US (San Jose)\n        +1 253 215 8782 US (Tacoma)\n        +1 346 248 7799 US (Houston)\nMeeting ID: 895 9462 2361\nFind your local number: https://us02web.zoom.us/u/kdwVFMyhnE
URL:https://machiasme.gov/event/board-of-select-peoples-meeting-2020-08-26/
LOCATION:Via Zoom\, Machias\, ME\, 04654\, United States
END:VEVENT
BEGIN:VEVENT
DTSTART;TZID=UTC:20200813T180000
DTEND;TZID=UTC:20200813T190000
DTSTAMP:20260424T105017
CREATED:20200720T142639Z
LAST-MODIFIED:20200804T133153Z
UID:10000481-1597341600-1597345200@machiasme.gov
SUMMARY:Public Hearing - Machias School Budget
DESCRIPTION:Click here for School Warrant 2020 \n  \nScott Porter is inviting you to a scheduled Zoom meeting. \nTopic: Scott Porter’s Zoom Meeting\nTime: Aug 13\, 2020 06:00 PM Eastern Time (US and Canada) \nJoin Zoom Meeting\nhttps://us02web.zoom.us/j/4604811654?pwd=U3JGTUphQk5ab0IvMGJMWU5QRWRqZz09 \nMeeting ID: 460 481 1654\nPasscode: 256040\nOne tap mobile\n+13017158592\,\,4604811654#\,\,\,\,\,\,0#\,\,256040# US (Germantown)\n+13126266799\,\,4604811654#\,\,\,\,\,\,0#\,\,256040# US (Chicago) \nDial by your location\n+1 301 715 8592 US (Germantown)\n+1 312 626 6799 US (Chicago)\n+1 646 558 8656 US (New York)\n+1 253 215 8782 US (Tacoma)\n+1 346 248 7799 US (Houston)\n+1 669 900 9128 US (San Jose)\n877 853 5257 US Toll-free\n888 475 4499 US Toll-free\n833 548 0276 US Toll-free\n833 548 0282 US Toll-free\nMeeting ID: 460 481 1654\nPasscode: 256040\nFind your local number: https://us02web.zoom.us/u/keFQouozI0
URL:https://machiasme.gov/event/public-hearing-machias-school-budget-warrent-to-follow/
LOCATION:Via Zoom\, Machias\, ME\, 04654\, United States
END:VEVENT
BEGIN:VEVENT
DTSTART;TZID=UTC:20200812T180000
DTEND;TZID=UTC:20200812T190000
DTSTAMP:20260424T105017
CREATED:20191114T192734Z
LAST-MODIFIED:20200806T204810Z
UID:10000919-1597255200-1597258800@machiasme.gov
SUMMARY:Board of SelectPeople's Meeting via Zoom
DESCRIPTION:Jarod Guillette is inviting you to a scheduled Zoom meeting. \nTopic: Machias Selectboard\nTime: Aug 12\, 2020 06:00 PM Eastern Time (US and Canada) \nJoin Zoom Meeting\nhttps://us02web.zoom.us/j/83832188006 \nMeeting ID: 838 3218 8006\nOne tap mobile\n+13126266799\,\,83832188006# US (Chicago)\n+16465588656\,\,83832188006# US (New York) \nDial by your location\n+1 312 626 6799 US (Chicago)\n+1 646 558 8656 US (New York)\n+1 301 715 8592 US (Germantown)\n+1 346 248 7799 US (Houston)\n+1 669 900 9128 US (San Jose)\n+1 253 215 8782 US (Tacoma)\nMeeting ID: 838 3218 8006\nFind your local number: https://us02web.zoom.us/u/kd306KJPbq
URL:https://machiasme.gov/event/board-of-select-peoples-meeting-2020-08-12/
LOCATION:Via Zoom\, Machias\, ME\, 04654\, United States
END:VEVENT
BEGIN:VEVENT
DTSTART;TZID=UTC:20200729T170000
DTEND;TZID=UTC:20200729T180000
DTSTAMP:20260424T105017
CREATED:20200723T154223Z
LAST-MODIFIED:20200723T154223Z
UID:10000482-1596042000-1596045600@machiasme.gov
SUMMARY:Machias School Committee Meeting via Zoom
DESCRIPTION:Scott Porter is inviting you to a scheduled Zoom meeting. \nTopic: Scott Porter’s Zoom Meeting\nTime: Jul 29\, 2020 05:00 PM Eastern Time (US and Canada) \nJoin Zoom Meeting\nhttps://us02web.zoom.us/j/4604811654?pwd=U3JGTUphQk5ab0IvMGJMWU5QRWRqZz09 \nMeeting ID: 460 481 1654\nPasscode: 256040\nOne tap mobile\n+13017158592\,\,4604811654#\,\,\,\,\,\,0#\,\,256040# US (Germantown)\n+13126266799\,\,4604811654#\,\,\,\,\,\,0#\,\,256040# US (Chicago) \nDial by your location\n+1 301 715 8592 US (Germantown)\n+1 312 626 6799 US (Chicago)\n+1 646 558 8656 US (New York)\n+1 253 215 8782 US (Tacoma)\n+1 346 248 7799 US (Houston)\n+1 669 900 9128 US (San Jose)\n877 853 5257 US Toll-free\n888 475 4499 US Toll-free\n833 548 0276 US Toll-free\n833 548 0282 US Toll-free\nMeeting ID: 460 481 1654\nPasscode: 256040\nFind your local number: https://us02web.zoom.us/u/keFQouozI0
URL:https://machiasme.gov/event/machias-school-committee-meeting-via-zoom-3/
LOCATION:Via Zoom\, Machias\, ME\, 04654\, United States
END:VEVENT
BEGIN:VEVENT
DTSTART;TZID=UTC:20200722T180000
DTEND;TZID=UTC:20200722T190000
DTSTAMP:20260424T105017
CREATED:20191114T192734Z
LAST-MODIFIED:20200702T182226Z
UID:10000918-1595440800-1595444400@machiasme.gov
SUMMARY:Board of SelectPeople's Meeting via Zoom following the Public Hearing
DESCRIPTION:Board of Select-people’s meetings are the 2nd and 4th Wednesday of the month at 6 p.m. \nJarod Guillette is inviting you to a scheduled Zoom meeting. \nTopic: Machias Select Board\nTime: Jul 22\, 2020 06:00 PM Eastern Time (US and Canada) \nJoin Zoom Meeting\nhttps://us02web.zoom.us/j/89682072069 \nMeeting ID: 896 8207 2069\nOne tap mobile\n+13017158592\,\,89682072069# US (Germantown)\n+13126266799\,\,89682072069# US (Chicago) \nDial by your location\n+1 301 715 8592 US (Germantown)\n+1 312 626 6799 US (Chicago)\n+1 646 558 8656 US (New York)\n+1 253 215 8782 US (Tacoma)\n+1 346 248 7799 US (Houston)\n+1 669 900 9128 US (San Jose)\nMeeting ID: 896 8207 2069\nFind your local number: https://us02web.zoom.us/u/keetBV4Hqm
URL:https://machiasme.gov/event/board-of-select-peoples-meeting-2020-07-22/
LOCATION:Via Zoom\, Machias\, ME\, 04654\, United States
END:VEVENT
BEGIN:VEVENT
DTSTART;TZID=UTC:20200722T180000
DTEND;TZID=UTC:20200722T183000
DTSTAMP:20260424T105017
CREATED:20200702T160619Z
LAST-MODIFIED:20200702T172830Z
UID:10000475-1595440800-1595442600@machiasme.gov
SUMMARY:The Town Of Machias - Public Hearing prior to SelectPeople Meeting via Zoom
DESCRIPTION:Click here public hearing ad \nJarod Guillette is inviting you to a scheduled Zoom meeting. \nTopic: Public Hearing\nTime: Jul 22\, 2020 04:00 PM Eastern Time (US and Canada) \nJoin Zoom Meeting\nhttps://us02web.zoom.us/j/83948545813 \nMeeting ID: 839 4854 5813\nOne tap mobile\n+16465588656\,\,83948545813# US (New York)\n+13017158592\,\,83948545813# US (Germantown) \nDial by your location\n+1 646 558 8656 US (New York)\n+1 301 715 8592 US (Germantown)\n+1 312 626 6799 US (Chicago)\n+1 669 900 9128 US (San Jose)\n+1 253 215 8782 US (Tacoma)\n+1 346 248 7799 US (Houston)\nMeeting ID: 839 4854 5813\nFind your local number: https://us02web.zoom.us/u/keCqVjwGUf \n  \n  \n 
URL:https://machiasme.gov/event/the-town-of-machias-public-hearing-prior-to-selectpeople-meeting-via-zoom/
LOCATION:Via Zoom\, Machias\, ME\, 04654\, United States
END:VEVENT
BEGIN:VEVENT
DTSTART;TZID=UTC:20200717T090000
DTEND;TZID=UTC:20200717T100000
DTSTAMP:20260424T105017
CREATED:20200715T144625Z
LAST-MODIFIED:20200715T155528Z
UID:10000480-1594976400-1594980000@machiasme.gov
SUMMARY:Machias Downtown Planning Committee Meeting via Zoom
DESCRIPTION:Jarod Guillette is inviting you to a scheduled Zoom meeting. \nTopic: Machias Downtown Planning\nTime: Jul 17\, 2020 09:00 AM Eastern Time (US and Canada) \nJoin Zoom Meeting\nhttps://us02web.zoom.us/j/82350442822?pwd=Lzk1T3U4dXcrcktRNmEySmtjclZvdz09 \nMeeting ID: 823 5044 2822\nPassword: 838916\nOne tap mobile\n+16465588656\,\,82350442822# US (New York)\n+13017158592\,\,82350442822# US (Germantown) \nDial by your location\n+1 646 558 8656 US (New York)\n+1 301 715 8592 US (Germantown)\n+1 312 626 6799 US (Chicago)\n+1 669 900 9128 US (San Jose)\n+1 253 215 8782 US (Tacoma)\n+1 346 248 7799 US (Houston)\nMeeting ID: 823 5044 2822\nFind your local number: https://us02web.zoom.us/u/kbgUA1j3Bq
URL:https://machiasme.gov/event/machias-downtown-planning-committee-meeting-via-zoom-2/
LOCATION:Via Zoom\, Machias\, ME\, 04654\, United States
END:VEVENT
BEGIN:VEVENT
DTSTART;TZID=UTC:20200708T160000
DTEND;TZID=UTC:20200708T173000
DTSTAMP:20260424T105017
CREATED:20200702T155147Z
LAST-MODIFIED:20200702T172157Z
UID:10000473-1594224000-1594229400@machiasme.gov
SUMMARY:Budget Committee Meeting via  Zoom
DESCRIPTION:Jarod Guillette is inviting you to a scheduled Zoom meeting. \nTopic: Budget Meeting\nTime: Jul 8\, 2020 04:00 PM Eastern Time (US and Canada) \nJoin Zoom Meeting\nhttps://us02web.zoom.us/j/82595576901 \nMeeting ID: 825 9557 6901\nOne tap mobile\n+13017158592\,\,82595576901# US (Germantown)\n+13126266799\,\,82595576901# US (Chicago) \nDial by your location\n+1 301 715 8592 US (Germantown)\n+1 312 626 6799 US (Chicago)\n+1 646 558 8656 US (New York)\n+1 253 215 8782 US (Tacoma)\n+1 346 248 7799 US (Houston)\n+1 669 900 9128 US (San Jose)\nMeeting ID: 825 9557 6901\nFind your local number: https://us02web.zoom.us/u/krIXjR7M6
URL:https://machiasme.gov/event/budget-committee-meeting-via-zoom-4/
LOCATION:Via Zoom\, Machias\, ME\, 04654\, United States
END:VEVENT
BEGIN:VEVENT
DTSTART;TZID=UTC:20200708T160000
DTEND;TZID=UTC:20200708T170000
DTSTAMP:20260424T105017
CREATED:20200708T135250Z
LAST-MODIFIED:20200708T142726Z
UID:10000478-1594224000-1594227600@machiasme.gov
SUMMARY:Machias School Committee Meeting via Zoom following the Budget Committee Meeting at 4pm
DESCRIPTION:Click here for the School Agenda \nScott Porter is inviting you to a scheduled Zoom meeting. \nTopic: Scott Porter’s Zoom Meeting\nTime: Jul 8\, 2020 03:30 PM Eastern Time (US and Canada) \nJoin Zoom Meeting\nhttps://us02web.zoom.us/j/4604811654?pwd=U3JGTUphQk5ab0IvMGJMWU5QRWRqZz09 \nMeeting ID: 460 481 1654\nPassword: 256040\nOne tap mobile\n+13017158592\,\,4604811654#\,\,\,\,0#\,\,256040# US (Germantown)\n+13126266799\,\,4604811654#\,\,\,\,0#\,\,256040# US (Chicago) \nDial by your location\n+1 301 715 8592 US (Germantown)\n+1 312 626 6799 US (Chicago)\n+1 646 558 8656 US (New York)\n+1 253 215 8782 US (Tacoma)\n+1 346 248 7799 US (Houston)\n+1 669 900 9128 US (San Jose)\n877 853 5257 US Toll-free\n888 475 4499 US Toll-free\n833 548 0276 US Toll-free\n833 548 0282 US Toll-free\nMeeting ID: 460 481 1654\nPassword: 256040\nFind your local number: https://us02web.zoom.us/u/keFQouozI0
URL:https://machiasme.gov/event/machias-school-committee-meeting-via-zoom-2/
LOCATION:Via Zoom\, Machias\, ME\, 04654\, United States
END:VEVENT
BEGIN:VEVENT
DTSTART;TZID=UTC:20200624T180000
DTEND;TZID=UTC:20200624T190000
DTSTAMP:20260424T105017
CREATED:20191114T192734Z
LAST-MODIFIED:20200619T201234Z
UID:10000916-1593021600-1593025200@machiasme.gov
SUMMARY:Board of SelectPeople's Meeting via Zoom
DESCRIPTION:Jarod Guillette is inviting you to a scheduled Zoom meeting. \nTopic: Machias Select board\nTime: Jun 24\, 2020 06:00 PM Eastern Time (US and Canada) \nJoin Zoom Meeting\nhttps://us02web.zoom.us/j/81860087731 \nMeeting ID: 818 6008 7731\nOne tap mobile\n+16465588656\,\,81860087731# US (New York)\n+13017158592\,\,81860087731# US (Germantown) \nDial by your location\n+1 646 558 8656 US (New York)\n+1 301 715 8592 US (Germantown)\n+1 312 626 6799 US (Chicago)\n+1 669 900 9128 US (San Jose)\n+1 253 215 8782 US (Tacoma)\n+1 346 248 7799 US (Houston)\nMeeting ID: 818 6008 7731\nFind your local number: https://us02web.zoom.us/u/kcuRtE7Aah
URL:https://machiasme.gov/event/board-of-select-peoples-meeting-2020-06-24/
LOCATION:Via Zoom\, Machias\, ME\, 04654\, United States
END:VEVENT
BEGIN:VEVENT
DTSTART;TZID=UTC:20200622T120000
DTEND;TZID=UTC:20200622T130000
DTSTAMP:20260424T105017
CREATED:20200616T175638Z
LAST-MODIFIED:20200622T125725Z
UID:10000967-1592827200-1592830800@machiasme.gov
SUMMARY:Machias School Committee Meeting via Zoom
DESCRIPTION:Scott Porter is inviting you to a scheduled Zoom meeting. \nTopic: Scott Porter’s Zoom Meeting\nTime: Jun 22\, 2020 12:00 PM Eastern Time (US and Canada) \nJoin Zoom Meeting\nhttps://us02web.zoom.us/j/4604811654?pwd=U3JGTUphQk5ab0IvMGJMWU5QRWRqZz09 \nMeeting ID: 460 481 1654\nPassword: 256040\nOne tap mobile\n+13017158592\,\,4604811654#\,\,\,\,0#\,\,256040# US (Germantown)\n+13126266799\,\,4604811654#\,\,\,\,0#\,\,256040# US (Chicago) \nDial by your location\n+1 301 715 8592 US (Germantown)\n+1 312 626 6799 US (Chicago)\n+1 646 558 8656 US (New York)\n+1 253 215 8782 US (Tacoma)\n+1 346 248 7799 US (Houston)\n+1 669 900 9128 US (San Jose)\n877 853 5257 US Toll-free\n888 475 4499 US Toll-free\n833 548 0276 US Toll-free\n833 548 0282 US Toll-free\nMeeting ID: 460 481 1654\nPassword: 256040\nFind your local number: https://us02web.zoom.us/u/keFQouozI0
URL:https://machiasme.gov/event/machias-school-committee-meeting-via-zoom/
LOCATION:Via Zoom\, Machias\, ME\, 04654\, United States
END:VEVENT
BEGIN:VEVENT
DTSTART;TZID=UTC:20200619T090000
DTEND;TZID=UTC:20200619T110000
DTSTAMP:20260424T105017
CREATED:20200617T191753Z
LAST-MODIFIED:20200618T124319Z
UID:10000968-1592557200-1592564400@machiasme.gov
SUMMARY:Machias Downtown Revitalization Committee Meeting - CANCELLED
DESCRIPTION:
URL:https://machiasme.gov/event/machias-downtown-revitalization-committee-meeting-via-zoom/
LOCATION:Via Zoom\, Machias\, ME\, 04654\, United States
END:VEVENT
BEGIN:VEVENT
DTSTART;TZID=UTC:20200619T090000
DTEND;TZID=UTC:20200619T100000
DTSTAMP:20260424T105017
CREATED:20200618T191812Z
LAST-MODIFIED:20200618T191812Z
UID:10000969-1592557200-1592560800@machiasme.gov
SUMMARY:Machias Downtown Planning Committee Meeting via Zoom
DESCRIPTION:Jarod Guillette is inviting you to a scheduled Zoom meeting.\n\nTopic: Machias Downtown Plan Committee\nTime: Jun 19\, 2020 09:00 AM Eastern Time (US and Canada)\n\nJoin Zoom Meeting\nhttps://us02web.zoom.us/j/83228058149\n\nMeeting ID: 832 2805 8149\nOne tap mobile\n+13126266799\,\,83228058149# US (Chicago)\n+16465588656\,\,83228058149# US (New York)\n\nDial by your location\n        +1 312 626 6799 US (Chicago)\n        +1 646 558 8656 US (New York)\n        +1 301 715 8592 US (Germantown)\n        +1 346 248 7799 US (Houston)\n        +1 669 900 9128 US (San Jose)\n        +1 253 215 8782 US (Tacoma)\nMeeting ID: 832 2805 8149\nFind your local number: https://us02web.zoom.us/u/kcQzkaX7vi
URL:https://machiasme.gov/event/machias-downtown-planning-committee-meeting-via-zoom/
LOCATION:Via Zoom\, Machias\, ME\, 04654\, United States
END:VEVENT
BEGIN:VEVENT
DTSTART;TZID=UTC:20200617T160000
DTEND;TZID=UTC:20200617T190000
DTSTAMP:20260424T105017
CREATED:20200611T182945Z
LAST-MODIFIED:20200615T154205Z
UID:10000966-1592409600-1592420400@machiasme.gov
SUMMARY:Budget Committee Meeting via Zoom
DESCRIPTION:Jarod Guillette is inviting you to a scheduled Zoom meeting. \nTopic: Machias Budget Committee\nTime: Jun 17\, 2020 04:00 PM Eastern Time (US and Canada) \nJoin Zoom Meeting\nhttps://us02web.zoom.us/j/89368624855 \nMeeting ID: 893 6862 4855\nOne tap mobile\n+16465588656\,\,89368624855# US (New York)\n+13017158592\,\,89368624855# US (Germantown) \nDial by your location\n+1 646 558 8656 US (New York)\n+1 301 715 8592 US (Germantown)\n+1 312 626 6799 US (Chicago)\n+1 669 900 9128 US (San Jose)\n+1 253 215 8782 US (Tacoma)\n+1 346 248 7799 US (Houston)\nMeeting ID: 893 6862 4855\nFind your local number: https://us02web.zoom.us/u/kbJetSieMe
URL:https://machiasme.gov/event/budget-committee-meeting-via-zoom-2/
LOCATION:Via Zoom\, Machias\, ME\, 04654\, United States
END:VEVENT
BEGIN:VEVENT
DTSTART;TZID=UTC:20200610T180000
DTEND;TZID=UTC:20200610T190000
DTSTAMP:20260424T105017
CREATED:20191114T192734Z
LAST-MODIFIED:20200608T134822Z
UID:10000915-1591812000-1591815600@machiasme.gov
SUMMARY:Board of SelectPeople's Meeting via Zoom
DESCRIPTION:Jarod Guillette is inviting you to a scheduled Zoom meeting.\n\nTopic: Machias Select Board\nTime: Jun 10\, 2020 06:00 PM Eastern Time (US and Canada)\n\nJoin Zoom Meeting\nhttps://us02web.zoom.us/j/85463952661?pwd=UHdLcnNPLzJraHVMcUhhdDltTmVuQT09\n\nMeeting ID: 854 6395 2661\nPassword: 486283\nOne tap mobile\n+16465588656\,\,85463952661# US (New York)\n+13017158592\,\,85463952661# US (Germantown)\n\nDial by your location\n        +1 646 558 8656 US (New York)\n        +1 301 715 8592 US (Germantown)\n        +1 312 626 6799 US (Chicago)\n        +1 669 900 9128 US (San Jose)\n        +1 253 215 8782 US (Tacoma)\n        +1 346 248 7799 US (Houston)\nMeeting ID: 854 6395 2661\nFind your local number: https://us02web.zoom.us/u/kmkMneNbt
URL:https://machiasme.gov/event/board-of-select-peoples-meeting-2020-06-10/
LOCATION:Via Zoom\, Machias\, ME\, 04654\, United States
END:VEVENT
BEGIN:VEVENT
DTSTART;TZID=UTC:20200610T160000
DTEND;TZID=UTC:20200610T180000
DTSTAMP:20260424T105017
CREATED:20200608T134150Z
LAST-MODIFIED:20200608T134204Z
UID:10000965-1591804800-1591812000@machiasme.gov
SUMMARY:Machias Budget Committee Meeting via Zoom
DESCRIPTION:Jarod Guillette is inviting you to a scheduled Zoom meeting. \nTopic: Machias Budget Committee\nTime: Jun 10\, 2020 04:00 PM Eastern Time (US and Canada) \nJoin Zoom Meeting\nhttps://us02web.zoom.us/j/83330723529 \nMeeting ID: 833 3072 3529\nOne tap mobile\n+13017158592\,\,83330723529# US (Germantown)\n+13126266799\,\,83330723529# US (Chicago) \nDial by your location\n+1 301 715 8592 US (Germantown)\n+1 312 626 6799 US (Chicago)\n+1 646 558 8656 US (New York)\n+1 253 215 8782 US (Tacoma)\n+1 346 248 7799 US (Houston)\n+1 669 900 9128 US (San Jose)\nMeeting ID: 833 3072 3529\nFind your local number: https://us02web.zoom.us/u/keA9SF1rL3
URL:https://machiasme.gov/event/machias-budget-committee-meeting-via-zoom/
LOCATION:Via Zoom\, Machias\, ME\, 04654\, United States
END:VEVENT
BEGIN:VEVENT
DTSTART;TZID=UTC:20200609T180000
DTEND;TZID=UTC:20200609T190000
DTSTAMP:20260424T105017
CREATED:20200529T165859Z
LAST-MODIFIED:20200529T171946Z
UID:10000962-1591725600-1591729200@machiasme.gov
SUMMARY:Machias Valley Airport - Crosswind Runway Meeting via Zoom
DESCRIPTION:Shane McDougall is inviting you to a scheduled Zoom meeting. \nTopic: Machias Crosswind Runway \nTime: Jun 9\, 2020 06:00 PM Eastern Time (US and Canada) \nJoin Zoom Meeting \nhttps://us02web.zoom.us/j/84732157284?pwd=QTMrNndPVSs1UzZzcnlUa0tIZVllQT09 \n  \nMeeting ID: 847 3215 7284 \nPassword: 647501 \nOne tap mobile \n+13017158592\,\,84732157284#\,\,1#\,647501# US (Germantown) \n+13126266799\,\,84732157284#\,\,1#\,647501# US (Chicago) \n  \nDial by your location \n        +1 301 715 8592 US (Germantown) \n        +1 312 626 6799 US (Chicago) \n        +1 929 205 6099 US (New York) \n        +1 253 215 8782 US (Tacoma) \n        +1 346 248 7799 US (Houston) \n        +1 669 900 6833 US (San Jose) \nMeeting ID: 847 3215 7284 \nPassword: 647501 \nFind your local number: https://us02web.zoom.us/u/kdFodNUCLF
URL:https://machiasme.gov/event/machias-valley-airport-crosswind-runway-meeting-via-zoom/
LOCATION:Via Zoom\, Machias\, ME\, 04654\, United States
END:VEVENT
BEGIN:VEVENT
DTSTART;TZID=UTC:20200603T190000
DTEND;TZID=UTC:20200603T200000
DTSTAMP:20260424T105017
CREATED:20160219T151457Z
LAST-MODIFIED:20200529T165636Z
UID:10000042-1591210800-1591214400@machiasme.gov
SUMMARY:Planning Board Meeting via Zoom
DESCRIPTION:Join Zoom Meeting\nhttps://us02web.zoom.us/j/87249724501\n\nMeeting ID: 872 4972 4501\nOne tap mobile\n+16465588656\,\,87249724501# US (New York)\n+13017158592\,\,87249724501# US (Germantown)\n\nDial by your location\n        +1 646 558 8656 US (New York)\n        +1 301 715 8592 US (Germantown)\n        +1 312 626 6799 US (Chicago)\n        +1 669 900 9128 US (San Jose)\n        +1 253 215 8782 US (Tacoma)\n        +1 346 248 7799 US (Houston)\nMeeting ID: 872 4972 4501\nFind your local number: https://us02web.zoom.us/u/kc04njoiMv
URL:https://machiasme.gov/event/planning-board-meeting-2020-06-03/
LOCATION:Via Zoom\, Machias\, ME\, 04654\, United States
CATEGORIES:Town Meetings
END:VEVENT
BEGIN:VEVENT
DTSTART;TZID=UTC:20200527T160000
DTEND;TZID=UTC:20200527T190000
DTSTAMP:20260424T105017
CREATED:20191114T192734Z
LAST-MODIFIED:20200522T210109Z
UID:10000914-1590595200-1590606000@machiasme.gov
SUMMARY:Board of SelectPeople's Meeting via zoom
DESCRIPTION:Jarod Guillette is inviting you to a scheduled Zoom meeting. \nTopic: Machias Select Board\nTime: May 27\, 2020 04:00 PM Eastern Time (US and Canada) \nJoin Zoom Meeting\nhttps://us02web.zoom.us/j/88214905049?pwd=eFRPTXNpOWVUL0lCb3lydVdoVll0dz09 \nMeeting ID: 882 1490 5049\nPassword: 713660\nOne tap mobile\n+13126266799\,\,88214905049# US (Chicago)\n+16465588656\,\,88214905049# US (New York) \nDial by your location\n+1 312 626 6799 US (Chicago)\n+1 646 558 8656 US (New York)\n+1 301 715 8592 US (Germantown)\n+1 346 248 7799 US (Houston)\n+1 669 900 9128 US (San Jose)\n+1 253 215 8782 US (Tacoma)\nMeeting ID: 882 1490 5049\nFind your local number: https://us02web.zoom.us/u/kccRhLxfT4 \n 
URL:https://machiasme.gov/event/board-of-select-peoples-meeting-2020-05-27/
LOCATION:Via Zoom\, Machias\, ME\, 04654\, United States
END:VEVENT
BEGIN:VEVENT
DTSTART;TZID=UTC:20200527T140000
DTEND;TZID=UTC:20200527T170000
DTSTAMP:20260424T105017
CREATED:20200522T203632Z
LAST-MODIFIED:20200522T203902Z
UID:10000961-1590588000-1590598800@machiasme.gov
SUMMARY:Budget Committee Meeting via Zoom
DESCRIPTION:Jarod Guillette is inviting you to a scheduled Zoom meeting. \nTopic: Machias Budget Commettee\nTime: May 27\, 2020 02:00 PM Eastern Time (US and Canada) \nJoin Zoom Meeting\nhttps://us02web.zoom.us/j/81638337771 \nMeeting ID: 816 3833 7771\nOne tap mobile\n+13017158592\,\,81638337771# US (Germantown)\n+13126266799\,\,81638337771# US (Chicago) \nDial by your location\n+1 301 715 8592 US (Germantown)\n+1 312 626 6799 US (Chicago)\n+1 646 558 8656 US (New York)\n+1 253 215 8782 US (Tacoma)\n+1 346 248 7799 US (Houston)\n+1 669 900 9128 US (San Jose)\nMeeting ID: 816 3833 7771\nFind your local number: https://us02web.zoom.us/u/kvtSnSel2
URL:https://machiasme.gov/event/budget-committee-meeting-via-zoom/
LOCATION:Via Zoom\, Machias\, ME\, 04654\, United States
END:VEVENT
BEGIN:VEVENT
DTSTART;TZID=UTC:20200520T143000
DTEND;TZID=UTC:20200520T210000
DTSTAMP:20260424T105017
CREATED:20200518T185813Z
LAST-MODIFIED:20200519T122435Z
UID:10000958-1589985000-1590008400@machiasme.gov
SUMMARY:Budget Committee Meeting via Zoom
DESCRIPTION:Meeting starts at 2:30pm\, School at 4pm and 3rd Party Requests at 6pm \nJarod Guillette is inviting you to a scheduled Zoom meeting. \nTopic: My Meeting\nTime: May 20\, 2020 02:30 PM Eastern Time (US and Canada) \nJoin Zoom Meeting\nhttps://us02web.zoom.us/j/87080702235 \nMeeting ID: 870 8070 2235\nOne tap mobile\n+13017158592\,\,87080702235# US (Germantown)\n+13126266799\,\,87080702235# US (Chicago) \nDial by your location\n+1 301 715 8592 US (Germantown)\n+1 312 626 6799 US (Chicago)\n+1 646 558 8656 US (New York)\n+1 253 215 8782 US (Tacoma)\n+1 346 248 7799 US (Houston)\n+1 669 900 9128 US (San Jose)\nMeeting ID: 870 8070 2235\nFind your local number: https://us02web.zoom.us/u/kOLQma5Yg
URL:https://machiasme.gov/event/budget-committee-meeting-4/
LOCATION:Via Zoom\, Machias\, ME\, 04654\, United States
END:VEVENT
BEGIN:VEVENT
DTSTART;TZID=UTC:20200422T180000
DTEND;TZID=UTC:20200422T190000
DTSTAMP:20260424T105017
CREATED:20191114T192734Z
LAST-MODIFIED:20200421T140141Z
UID:10000912-1587578400-1587582000@machiasme.gov
SUMMARY:Board of SelectPeople's Meeting
DESCRIPTION:Board of Select-people’s meetings are the 2nd and 4th Wednesday of the month at 6 p.m. a via Zoom at https://zoom.us/j/94282073248  – meeting ID: 942 8207 3248 \n  \n 
URL:https://machiasme.gov/event/board-of-select-peoples-meeting-2020-04-22/
LOCATION:Via Zoom\, Machias\, ME\, 04654\, United States
END:VEVENT
END:VCALENDAR