BEGIN:VCALENDAR
VERSION:2.0
PRODID:-//Town of Machias - ECPv6.15.20//NONSGML v1.0//EN
CALSCALE:GREGORIAN
METHOD:PUBLISH
X-WR-CALNAME:Town of Machias
X-ORIGINAL-URL:https://machiasme.gov
X-WR-CALDESC:Events for Town of Machias
REFRESH-INTERVAL;VALUE=DURATION:PT1H
X-Robots-Tag:noindex
X-PUBLISHED-TTL:PT1H
BEGIN:VTIMEZONE
TZID:UTC
BEGIN:STANDARD
TZOFFSETFROM:+0000
TZOFFSETTO:+0000
TZNAME:UTC
DTSTART:20190101T000000
END:STANDARD
END:VTIMEZONE
BEGIN:VEVENT
DTSTART;TZID=UTC:20200527T140000
DTEND;TZID=UTC:20200527T170000
DTSTAMP:20260424T144441
CREATED:20200522T203632Z
LAST-MODIFIED:20200522T203902Z
UID:10000961-1590588000-1590598800@machiasme.gov
SUMMARY:Budget Committee Meeting via Zoom
DESCRIPTION:Jarod Guillette is inviting you to a scheduled Zoom meeting. \nTopic: Machias Budget Commettee\nTime: May 27\, 2020 02:00 PM Eastern Time (US and Canada) \nJoin Zoom Meeting\nhttps://us02web.zoom.us/j/81638337771 \nMeeting ID: 816 3833 7771\nOne tap mobile\n+13017158592\,\,81638337771# US (Germantown)\n+13126266799\,\,81638337771# US (Chicago) \nDial by your location\n+1 301 715 8592 US (Germantown)\n+1 312 626 6799 US (Chicago)\n+1 646 558 8656 US (New York)\n+1 253 215 8782 US (Tacoma)\n+1 346 248 7799 US (Houston)\n+1 669 900 9128 US (San Jose)\nMeeting ID: 816 3833 7771\nFind your local number: https://us02web.zoom.us/u/kvtSnSel2
URL:https://machiasme.gov/event/budget-committee-meeting-via-zoom/
LOCATION:Via Zoom\, Machias\, ME\, 04654\, United States
END:VEVENT
BEGIN:VEVENT
DTSTART;TZID=UTC:20200520T143000
DTEND;TZID=UTC:20200520T210000
DTSTAMP:20260424T144441
CREATED:20200518T185813Z
LAST-MODIFIED:20200519T122435Z
UID:10000958-1589985000-1590008400@machiasme.gov
SUMMARY:Budget Committee Meeting via Zoom
DESCRIPTION:Meeting starts at 2:30pm\, School at 4pm and 3rd Party Requests at 6pm \nJarod Guillette is inviting you to a scheduled Zoom meeting. \nTopic: My Meeting\nTime: May 20\, 2020 02:30 PM Eastern Time (US and Canada) \nJoin Zoom Meeting\nhttps://us02web.zoom.us/j/87080702235 \nMeeting ID: 870 8070 2235\nOne tap mobile\n+13017158592\,\,87080702235# US (Germantown)\n+13126266799\,\,87080702235# US (Chicago) \nDial by your location\n+1 301 715 8592 US (Germantown)\n+1 312 626 6799 US (Chicago)\n+1 646 558 8656 US (New York)\n+1 253 215 8782 US (Tacoma)\n+1 346 248 7799 US (Houston)\n+1 669 900 9128 US (San Jose)\nMeeting ID: 870 8070 2235\nFind your local number: https://us02web.zoom.us/u/kOLQma5Yg
URL:https://machiasme.gov/event/budget-committee-meeting-4/
LOCATION:Via Zoom\, Machias\, ME\, 04654\, United States
END:VEVENT
BEGIN:VEVENT
DTSTART;TZID=UTC:20200422T180000
DTEND;TZID=UTC:20200422T190000
DTSTAMP:20260424T144441
CREATED:20191114T192734Z
LAST-MODIFIED:20200421T140141Z
UID:10000912-1587578400-1587582000@machiasme.gov
SUMMARY:Board of SelectPeople's Meeting
DESCRIPTION:Board of Select-people’s meetings are the 2nd and 4th Wednesday of the month at 6 p.m. a via Zoom at https://zoom.us/j/94282073248  – meeting ID: 942 8207 3248 \n  \n 
URL:https://machiasme.gov/event/board-of-select-peoples-meeting-2020-04-22/
LOCATION:Via Zoom\, Machias\, ME\, 04654\, United States
END:VEVENT
END:VCALENDAR